BEGIN:VCALENDAR
VERSION:2.0
PRODID:-//Bermondsey Project Space - ECPv6.0.11//NONSGML v1.0//EN
CALSCALE:GREGORIAN
METHOD:PUBLISH
X-WR-CALNAME:Bermondsey Project Space
X-ORIGINAL-URL:https://project-space.london
X-WR-CALDESC:Events for Bermondsey Project Space
REFRESH-INTERVAL;VALUE=DURATION:PT1H
X-Robots-Tag:noindex
X-PUBLISHED-TTL:PT1H
BEGIN:VTIMEZONE
TZID:UTC
BEGIN:STANDARD
TZOFFSETFROM:+0000
TZOFFSETTO:+0000
TZNAME:UTC
DTSTART:20170101T000000
END:STANDARD
END:VTIMEZONE
BEGIN:VEVENT
DTSTART;TZID=UTC:20170131T110000
DTEND;TZID=UTC:20170211T180000
DTSTAMP:20260421T142331
CREATED:20170131T165557Z
LAST-MODIFIED:20190615T152209Z
UID:4377-1485860400-1486836000@project-space.london
SUMMARY:Bermondsey Shorts
DESCRIPTION:Bermondsey Shorts\nA weekly series of short\, experimental artist films.\nProgramme Director: Michaela Freeman\nFebruary Programme:\n31/1-4/2  JENNA COLLINS – Someone Who Isn’t Me\nScreening Times: Tue-Sat 12-2pm & 4-6pm\nStarted in April 2016\, Bermondsey Shorts has presented films by international artists and filmmakers including: Miguel Jiron\, Alex Grigg\, Jan Sramek\, Veronika Vlkova\, Alexandra Levasseur\, Johnny Kelly\, Christian Schlaeffer\, Carla McKinnon\, Caleb Wood\, Daniela Sherer\, Neely Goniodsky\, Greg Barth\, Mikey Please\, Matthew Stephenson\, Tereza Buskova\, Vladimír Houdek\, Timothy David Orme\, Susan Francis\, Pete Gomes\, Heather Phillipson\, Sarah-Mace Dennis. \nInterested to show your film as part of Bermondsey Shorts?\nContact us on facebook:/BermondseyShorts
URL:https://project-space.london/event/bermondsey-shorts
LOCATION:Gallery 3\, 183 - 185 Bermondsey Street\, LONDON\, SE1 3UW\, United Kingdom
CATEGORIES:Events
ATTACH;FMTTYPE=image/jpeg:https://project-space.london/wp-content/uploads/2016/11/IMG_5274.jpg
END:VEVENT
BEGIN:VEVENT
DTSTART;TZID=UTC:20170207T110000
DTEND;TZID=UTC:20170212T180000
DTSTAMP:20260421T142331
CREATED:20170131T172831Z
LAST-MODIFIED:20190615T152208Z
UID:4430-1486465200-1486922400@project-space.london
SUMMARY:#JESSOPSWINTER EXHIBITION
DESCRIPTION:In association with JESSOPS\nImmerse yourself in some fantastic wintery landscapes this February thanks to Jessops. This winter the UK’s premier photo retailer challenged their customers to get out and capture the season around them\, with weekly winners having their photos displayed in stores nationwide. \nAs the ‘#JessopsWINter’ competition draws to a close\, we are delighted to bring together the breathtaking photos that capture winter at its finest all under one roof\, at our amazing Art Bermondsey Project Space gallery. \nRunning from  6th – 12th February inclusive this exhibition is open to anyone and easily reachable from all major transport hubs\, so there’s no excuse to miss out on the amazing images photographers across the UK have been capturing this winter. \nDon’t forget to share all your photos from the exhibition using the hashtag #JessopsWINter
URL:https://project-space.london/event/minnie-weisz-time-present-time-future-2
CATEGORIES:Events
ATTACH;FMTTYPE=image/jpeg:https://project-space.london/wp-content/uploads/2017/01/jessops-winter.jpg
END:VEVENT
END:VCALENDAR