BEGIN:VCALENDAR
VERSION:2.0
PRODID:-//Bermondsey Project Space - ECPv6.0.11//NONSGML v1.0//EN
CALSCALE:GREGORIAN
METHOD:PUBLISH
X-WR-CALNAME:Bermondsey Project Space
X-ORIGINAL-URL:https://project-space.london
X-WR-CALDESC:Events for Bermondsey Project Space
REFRESH-INTERVAL;VALUE=DURATION:PT1H
X-Robots-Tag:noindex
X-PUBLISHED-TTL:PT1H
BEGIN:VTIMEZONE
TZID:UTC
BEGIN:STANDARD
TZOFFSETFROM:+0000
TZOFFSETTO:+0000
TZNAME:UTC
DTSTART:20160101T000000
END:STANDARD
END:VTIMEZONE
BEGIN:VEVENT
DTSTART;VALUE=DATE:20160222
DTEND;VALUE=DATE:20160228
DTSTAMP:20260422T100323
CREATED:20160107T123039Z
LAST-MODIFIED:20190615T152208Z
UID:3319-1456099200-1456617599@project-space.london
SUMMARY:120 HOURS IN INDIA BY R CLEVELAND AARON
DESCRIPTION:ON BOARD THE SMILE TRAIN – this was the time Cleveland allocated to visit two Indian cities and document a boy’s quest to collect images to exhibit and raise money for SMILE TRAIN – a charity set up to help children born with cleft palates/lips. His images document the fine work of the SMILE TRAIN organisation in a hospital in Delhi. \n“I was only in India for five days. It wasn’t the first time I’d been there but it was the first time that I’d truly seen India – although I’d visited around 20 years previously. The photos will be sold as exclusive\, unique prints\, while the images I took at the hospital will also help Smile Train document the work they do. I was told they have no images like the ones I shot. However\, these may also be for sale if it means we can raise more money…”
URL:https://project-space.london/event/120-hours-in-india-by-r-cleveland-aaron
LOCATION:Gallery 1\, 183 - 185 Bermondsey Street\, London\, SE1 3UW\, United Kingdom
CATEGORIES:Events
ATTACH;FMTTYPE=image/jpeg:https://project-space.london/wp-content/uploads/2016/01/SmileTrain0289_sml.jpg
END:VEVENT
END:VCALENDAR