BEGIN:VCALENDAR
VERSION:2.0
PRODID:-//Bermondsey Project Space - ECPv6.0.11//NONSGML v1.0//EN
CALSCALE:GREGORIAN
METHOD:PUBLISH
X-WR-CALNAME:Bermondsey Project Space
X-ORIGINAL-URL:https://project-space.london
X-WR-CALDESC:Events for Bermondsey Project Space
REFRESH-INTERVAL;VALUE=DURATION:PT1H
X-Robots-Tag:noindex
X-PUBLISHED-TTL:PT1H
BEGIN:VTIMEZONE
TZID:UTC
BEGIN:STANDARD
TZOFFSETFROM:+0000
TZOFFSETTO:+0000
TZNAME:UTC
DTSTART:20160101T000000
END:STANDARD
END:VTIMEZONE
BEGIN:VEVENT
DTSTART;TZID=UTC:20161122T110000
DTEND;TZID=UTC:20161203T180000
DTSTAMP:20260421T193136
CREATED:20161122T164940Z
LAST-MODIFIED:20190615T152209Z
UID:4374-1479812400-1480788000@project-space.london
SUMMARY:BRAD FAINE 'Diamond Geezers'
DESCRIPTION:BRAD FAINE \n\n\n‘Diamond Geezers’ \n\nBrad Faine is an internationally recognised artist and printmaker who was\, for 40 years the managing director of Coriander Studio\, one of Europe’s foremost printers and publishers of fine art limited editions\, specialising in serigraphic and digital prints.\nIn 2010 he resigned his directorship of Coriander to concentrate on making his own prints and paintings. Since 2005 his limited editions have been generated exclusively on computer and exist only in digital form. All his prints are first generation images and not reproductions of pre-existing drawings or paintings.\nThis Art dazzles the eye and plays games with the mind (not the same as mind games).\nIt is kaleidoscopic\, optically replete\, busy and colourful. It is visually complicated\,\nin some works more so than in others\, but even when relatively simple\nit is always crammed to the edges. It is referentially loaded\, steeped in popular culture\, popular graphics\, popular pastimes. \n\nMel Gooding\, November 2012
URL:https://project-space.london/event/brad-faine-diamond-geezers
LOCATION:Gallery 1 + 2\, 183-185 Bermondsey Street\, London\, London\, SE1 3UW\, United Kingdom
CATEGORIES:Events
ATTACH;FMTTYPE=image/png:https://project-space.london/wp-content/uploads/2016/11/Screen-Shot-2016-11-22-at-12.35.19.png
END:VEVENT
END:VCALENDAR