BEGIN:VCALENDAR
VERSION:2.0
PRODID:-//Bermondsey Project Space - ECPv6.0.11//NONSGML v1.0//EN
CALSCALE:GREGORIAN
METHOD:PUBLISH
X-ORIGINAL-URL:https://project-space.london
X-WR-CALDESC:Events for Bermondsey Project Space
REFRESH-INTERVAL;VALUE=DURATION:PT1H
X-Robots-Tag:noindex
X-PUBLISHED-TTL:PT1H
BEGIN:VTIMEZONE
TZID:UTC
BEGIN:STANDARD
TZOFFSETFROM:+0000
TZOFFSETTO:+0000
TZNAME:UTC
DTSTART:20170101T000000
END:STANDARD
END:VTIMEZONE
BEGIN:VEVENT
DTSTART;TZID=UTC:20170321T110000
DTEND;TZID=UTC:20170408T180000
DTSTAMP:20260421T143127
CREATED:20170322T134122Z
LAST-MODIFIED:20190615T152209Z
UID:4497-1490094000-1491674400@project-space.london
SUMMARY:Bermondsey Shorts - A Weekly Programme of Artists Videos
DESCRIPTION:Bermondsey Shorts is a regular programme of experimental short films curated by Michaela Freeman.\nThis week: \n style=”text-align: center;”>Clara S. Rueprich\n style=”text-align: center;”>Condition M\nThe film documents a training exercise with a keeper and his hunting dogs. A trail of meat lies outside the dogs’ kennels. Marked with an ‘M’ on their flanks\, the hounds waiting hungrily inside can see the meat and become excited and agitated in their wait\, but the keeper prevents them from leaving. \n“When finally allowed to leave\, the keeper cracks his whip and the dogs obediently hold back from devouring the meat. The dogs are incredibly patient\, and when they are allowed to feed\, they do so with great energy and delight. \n“This remarkable film\, shot from a single viewpoint\, explores the close relationship between the keeper and dogs / human and animal\, but also raises certain ethical questions about the mechanisms of control used to restrain these hounds which are bred to seek\, hunt and kill.” \nInterested to show your film as part of Bermondsey Shorts? Contact us on facebook: /BermondseyShorts\nScreening Times: Tue-Sat 12-2pm & 4-6pm\n[row][one_col] \n\n			\n				\n			\n			\n				\n			\n			\n				\n			\n			\n				\n			\n			\n				\n			\n			\n				\n			\n			\n				\n			\n			\n				\n			\n			\n				\n			\n			\n				\n			\n			\n				\n			\n			\n				\n			\n			\n				\n			\n			\n				\n			\n			\n				\n			\n			\n				\n			\n			\n				\n			\n			\n				\n			\n			\n				\n			\n			\n				\n			\n			\n				\n			\n			\n				\n			\n			\n				\n			\n			\n				\n			\n			\n				\n			\n			\n				\n			\n			\n				\n			\n			\n				\n			\n			\n				\n			\n			\n				\n			\n			\n				\n			\n			\n				\n			\n			\n				\n			\n			\n				\n			\n			\n				\n			\n			\n				\n			\n			\n				\n			\n			\n				\n			\n			\n				\n			\n			\n				\n			\n			\n				\n			\n			\n				\n			\n		\n\n[/one_col][/row]
URL:https://project-space.london/event/bermondsey-shorts-2
CATEGORIES:Events
ATTACH;FMTTYPE=image/jpeg:https://project-space.london/wp-content/uploads/2017/04/BERMONDSEY-SHORTS1.jpg
END:VEVENT
END:VCALENDAR